BEGIN:VCALENDAR
VERSION:2.0
PRODID:-//Verein Tauriska - ECPv6.15.20//NONSGML v1.0//EN
CALSCALE:GREGORIAN
METHOD:PUBLISH
X-WR-CALNAME:Verein Tauriska
X-ORIGINAL-URL:https://www.tauriska.at
X-WR-CALDESC:Veranstaltungen für Verein Tauriska
REFRESH-INTERVAL;VALUE=DURATION:PT1H
X-Robots-Tag:noindex
X-PUBLISHED-TTL:PT1H
BEGIN:VTIMEZONE
TZID:Europe/Vienna
BEGIN:DAYLIGHT
TZOFFSETFROM:+0100
TZOFFSETTO:+0200
TZNAME:CEST
DTSTART:20210328T010000
END:DAYLIGHT
BEGIN:STANDARD
TZOFFSETFROM:+0200
TZOFFSETTO:+0100
TZNAME:CET
DTSTART:20211031T010000
END:STANDARD
BEGIN:DAYLIGHT
TZOFFSETFROM:+0100
TZOFFSETTO:+0200
TZNAME:CEST
DTSTART:20220327T010000
END:DAYLIGHT
BEGIN:STANDARD
TZOFFSETFROM:+0200
TZOFFSETTO:+0100
TZNAME:CET
DTSTART:20221030T010000
END:STANDARD
BEGIN:DAYLIGHT
TZOFFSETFROM:+0100
TZOFFSETTO:+0200
TZNAME:CEST
DTSTART:20230326T010000
END:DAYLIGHT
BEGIN:STANDARD
TZOFFSETFROM:+0200
TZOFFSETTO:+0100
TZNAME:CET
DTSTART:20231029T010000
END:STANDARD
BEGIN:DAYLIGHT
TZOFFSETFROM:+0100
TZOFFSETTO:+0200
TZNAME:CEST
DTSTART:20240331T010000
END:DAYLIGHT
BEGIN:STANDARD
TZOFFSETFROM:+0200
TZOFFSETTO:+0100
TZNAME:CET
DTSTART:20241027T010000
END:STANDARD
END:VTIMEZONE
BEGIN:VEVENT
DTSTART;TZID=Europe/Vienna:20221125T000000
DTEND;TZID=Europe/Vienna:20230331T000000
DTSTAMP:20260422T124520
CREATED:20221029T142348Z
LAST-MODIFIED:20230206T151741Z
UID:5664-1669334400-1680220800@www.tauriska.at
SUMMARY:Ausstellung REVISITED - Peter Fritzenwallner
DESCRIPTION:Peter Fritzenwallner entwirft Ausstellungsdisplays für eine Auswahl von Steinberg-Thoma-Werken und kontextualisiert diese Werke durch Videoarbeiten und -kommentare neu. \n  \nProjekt im Rahmen von "Simultan. Zeitgenössische Kunstproduktion in Salzburgs Regionalmuseen"\nEinladungskarte REVISITED (pdf) \n  \nÖffnungszeiten bei den Veranstaltungen oder auf Anfrage: office@tauriska.at\, +43 (0)664 5205205\n  \nMit der Teilnahme an der Veranstaltung stimmen Sie der Anfertigung von Fotos\, Ton- und Filmaufnahmen sowie deren Veröffentlichung zu.
URL:https://www.tauriska.at/event/revisited-peter-fritzenwallner/
LOCATION:TAURISKA-Kammerlanderstall\, Künstlergasse 15a\, Neukirchen am Großvenediger\, AUSTRIA\, 5741\, Österreich
ATTACH;FMTTYPE=image/jpeg:https://www.tauriska.at/wp-content/uploads/2022/10/revisited.jpeg
END:VEVENT
BEGIN:VEVENT
DTSTART;TZID=Europe/Vienna:20221213T150000
DTEND;TZID=Europe/Vienna:20221213T170000
DTSTAMP:20260422T124520
CREATED:20221202T183000Z
LAST-MODIFIED:20221202T183159Z
UID:5717-1670943600-1670950800@www.tauriska.at
SUMMARY:Kultur Dialog 2022
DESCRIPTION:Kultur-Dialog / Meine Kultur Region \nProjekt „Bewegliche Figurenwelt – Steinberg Thoma“\nIn einer Gesprächsrunde wollen wir uns auf die Spuren von Thomas de Martin Pinter (*1909 – †1997) begeben\, einem Knecht in den Pinzgauer Bergen. Er lebte in Neukirchen am Großvenediger und äußerte sich künstlerisch in Form von beweglichen Figurenspielen: ca. 30 Werkstücke umfasst die noch bestehende Sammlung des Steinberg Thoma. \nSeine Arbeiten sollen Anstoß sein\, um uns seinen Werken zu widmen und auch um neue Impulse entstehen zu lassen. Beteiligen können sich Alle: zeitgenössische Künstler*innen\, Handwerker*innen\, Reparatur-Cafe ́s\, Literaturfreunde\, Filmer*innen\, Wissenschafter*innen (Knecht/Magd\, Heimat und Kulturgeschichte)\, Schulen\, Museen\, Interessierte\, … \n  \nZoom-Meeting: https://us06web.zoom.us/j/87330373749?pwd=d3pBM2JWUXdsNVVlYXpNY0hLNUtLQT09\nMeeting-ID: 873 3037 3749 \nKenncode: 131222\n\nEinladungskarte (pdf)
URL:https://www.tauriska.at/event/kultur-dialog-2022/
LOCATION:Online
ATTACH;FMTTYPE=image/jpeg:https://www.tauriska.at/wp-content/uploads/2022/12/Kultur-Dialog-22.jpeg
END:VEVENT
BEGIN:VEVENT
DTSTART;TZID=Europe/Vienna:20221217T170000
DTEND;TZID=Europe/Vienna:20221217T200000
DTSTAMP:20260422T124520
CREATED:20220808T095131Z
LAST-MODIFIED:20221125T203054Z
UID:5567-1671296400-1671307200@www.tauriska.at
SUMMARY:Adventlesung
DESCRIPTION:Adventlesung “Schreib’s auf”\nAutor*innen: Beatrix Sternath-Neumayer\, Christl Stotter\, Franz Fritz\, Margit Gantner und Gastredner Hans-Jörg Voithofer\nMusik: Daxn (Dominik Meißnitzer\, Kathrin Matzenberger) \n  \nEinladung zur Adventlesung und Neukirchner Advent (pdf)\n  \n\nMit der Teilnahme an der Veranstaltung stimmen Sie der Anfertigung von Fotos\, Ton- und Filmaufnahmen sowie deren Veröffentlichung zu.
URL:https://www.tauriska.at/event/adventlesung-2/
LOCATION:TAURISKA-Kammerlanderstall\, Künstlergasse 15a\, Neukirchen am Großvenediger\, AUSTRIA\, 5741\, Österreich
ATTACH;FMTTYPE=image/jpeg:https://www.tauriska.at/wp-content/uploads/2022/08/Adventlesung-2022.jpg
END:VEVENT
END:VCALENDAR