BEGIN:VCALENDAR
VERSION:2.0
PRODID:-//Verein Tauriska - ECPv6.15.20//NONSGML v1.0//EN
CALSCALE:GREGORIAN
METHOD:PUBLISH
X-ORIGINAL-URL:https://www.tauriska.at
X-WR-CALDESC:Veranstaltungen für Verein Tauriska
REFRESH-INTERVAL;VALUE=DURATION:PT1H
X-Robots-Tag:noindex
X-PUBLISHED-TTL:PT1H
BEGIN:VTIMEZONE
TZID:Europe/Vienna
BEGIN:DAYLIGHT
TZOFFSETFROM:+0100
TZOFFSETTO:+0200
TZNAME:CEST
DTSTART:20210328T010000
END:DAYLIGHT
BEGIN:STANDARD
TZOFFSETFROM:+0200
TZOFFSETTO:+0100
TZNAME:CET
DTSTART:20211031T010000
END:STANDARD
BEGIN:DAYLIGHT
TZOFFSETFROM:+0100
TZOFFSETTO:+0200
TZNAME:CEST
DTSTART:20220327T010000
END:DAYLIGHT
BEGIN:STANDARD
TZOFFSETFROM:+0200
TZOFFSETTO:+0100
TZNAME:CET
DTSTART:20221030T010000
END:STANDARD
BEGIN:DAYLIGHT
TZOFFSETFROM:+0100
TZOFFSETTO:+0200
TZNAME:CEST
DTSTART:20230326T010000
END:DAYLIGHT
BEGIN:STANDARD
TZOFFSETFROM:+0200
TZOFFSETTO:+0100
TZNAME:CET
DTSTART:20231029T010000
END:STANDARD
END:VTIMEZONE
BEGIN:VEVENT
DTSTART;TZID=Europe/Vienna:20220624T083000
DTEND;TZID=Europe/Vienna:20220702T180000
DTSTAMP:20260422T221654
CREATED:20220406T091549Z
LAST-MODIFIED:20220406T091846Z
UID:5240-1656059400-1656784800@www.tauriska.at
SUMMARY:7. Theaterwanderung
DESCRIPTION:Flucht über die Berge\nSeit 2016 spüren die professionellen Schauspielerinnen und Schauspieler des “teatro caprile” mit einer Theaterwanderung in Kooperation mit ALPINE PEACE CROSSING im bezaubernden Krimmler Achental dem von Marko Feingold ausge- kundschafteten Fluchtweg von 5000 jüdischen Flüchtlingen über den Krimmler Tauern im Jahre 1947 (!) nach. \nMehr zur Wanderung (pdf)  \n\n  \nOrganisatorisches\n\nTermine: 24.06.\, 25.06.\, 26.06.\, 01.07.\, 02.07. 2022\nTreffpunkt/Uhrzeit: 08:30 Uhr Tourismusbüro Krimml; 09:00 Uhr Musikpavillon Krimml\nTICKETS: € 40\,00 pro Teilnehmer*in (Jugendliche und Schülergruppen bis 18 Jahre € 25\,00)\nTaxitransfers im Preis inbegriffen | Wanderung: 600 Höhenmeter | Hunde nicht erlaubt!\nDie Theaterwanderung findet bei jedem Wetter statt!\n\n  \nINFO & ANMELDUNG\nTourismusverband Krimml | T: +43 6564 7239 0 info@krimml.at | www.krimml.at\n 
URL:https://www.tauriska.at/event/7-theaterwanderung/
LOCATION:Krimmler Achental\, Krimml\, 5743
CATEGORIES:Theaterwanderung
ATTACH;FMTTYPE=image/jpeg:https://www.tauriska.at/wp-content/uploads/2018/04/Eretz_Austria.jpg
END:VEVENT
BEGIN:VEVENT
DTSTART;TZID=Europe/Vienna:20220701T090000
DTEND;TZID=Europe/Vienna:20220701T110000
DTSTAMP:20260422T221654
CREATED:20220517T070121Z
LAST-MODIFIED:20220525T081824Z
UID:5336-1656666000-1656673200@www.tauriska.at
SUMMARY:Kohr-Café: Selbstversorgung aus Wald und Wiese
DESCRIPTION:Kohr-Café mit der TEH-Kräuterfrau Margaretha Vötter (Kräuterwelt). \nThema ist die Selbstversorgung aus Wald und Wiese: Kräuter erkennen\, wertschätzen und verarbeiten. \nMehr Informationen auf dem Flyer (pdf)\n  \nMit der Teilnahme an der Veranstaltung stimmen Sie der Anfertigung von Fotos\, Ton- und Filmaufnahmen sowie deren Veröffentlichung zu. \n 
URL:https://www.tauriska.at/event/kohr-cafe-selbstversorgung-aus-wald-und-wiese/
LOCATION:naturwerke Hollersbach\, Hollersbach 75\, Hollersbach\, 5731
CATEGORIES:Kohr-Cafe
ATTACH;FMTTYPE=image/jpeg:https://www.tauriska.at/wp-content/uploads/2022/05/Krauter-Juli.jpg
END:VEVENT
BEGIN:VEVENT
DTSTART;TZID=Europe/Vienna:20220712T200000
DTEND;TZID=Europe/Vienna:20220712T220000
DTSTAMP:20260422T221654
CREATED:20220525T090422Z
LAST-MODIFIED:20220621T114235Z
UID:5366-1657656000-1657663200@www.tauriska.at
SUMMARY:Vortrag Schneider
DESCRIPTION:Referent: Marcus Schneider \nThema: Kulturimpulse des deutschsprachigen Europas der Mitte in Philosophie und Literatur – was ist davon geblieben?  \n  \nMehr dazu (pdf)\n  \nMit der Teilnahme an der Veranstaltung stimmen Sie der Anfertigung von Fotos\, Ton- und Filmaufnahmen sowie deren Veröffentlichung zu.
URL:https://www.tauriska.at/event/schneider-2022/
LOCATION:TAURISKA-Kammerlanderstall\, Künstlergasse 15a\, Neukirchen am Großvenediger\, AUSTRIA\, 5741\, Österreich
ATTACH;FMTTYPE=image/jpeg:https://www.tauriska.at/wp-content/uploads/2019/04/marcus_schneider.jpg
END:VEVENT
BEGIN:VEVENT
DTSTART;TZID=Europe/Vienna:20220715T183000
DTEND;TZID=Europe/Vienna:20220715T213000
DTSTAMP:20260422T221654
CREATED:20220525T111611Z
LAST-MODIFIED:20220608T085253Z
UID:5376-1657909800-1657920600@www.tauriska.at
SUMMARY:Installation & Vortrag
DESCRIPTION:Im Rahmen des Projektes SchafOhrMarke finden zwei Programmpunkte statt: \n\nWollfaden-Installation von Karl Hartwig Kaltner\nVortrag “Wollfett\, Mozart und eine kleine Kulturgeschichte der Brustwarzen” von Michael Malkiewicz & Vorstellung von Piepers Biokosmetik\n\n  \nMehr Information auf der Einladungskarte (pdf)\n  \nMit der Teilnahme an der Veranstaltung stimmen Sie der Anfertigung von Fotos\, Ton- und Filmaufnahmen sowie deren Veröffentlichung zu. \n 
URL:https://www.tauriska.at/event/installation-vortrag/
LOCATION:TAURISKA-Kammerlanderstall\, Künstlergasse 15a\, Neukirchen am Großvenediger\, AUSTRIA\, 5741\, Österreich
ATTACH;FMTTYPE=image/jpeg:https://www.tauriska.at/wp-content/uploads/2022/05/woll-installation.jpg
END:VEVENT
BEGIN:VEVENT
DTSTART;TZID=Europe/Vienna:20220722T100000
DTEND;TZID=Europe/Vienna:20220722T120000
DTSTAMP:20260422T221654
CREATED:20220613T073720Z
LAST-MODIFIED:20220624T083031Z
UID:5440-1658484000-1658491200@www.tauriska.at
SUMMARY:Filz-Workshop
DESCRIPTION:Foto: Salzburger Wollstadel \n  \nSitzkissen filzen\nmit dem Salzburger Wollstadel\, Bramberg \nDer Filz-Workshop findet im Rahmen des EU-Projektes “SchafOhrMarke” statt. \nMehr Information (pdf) \n  \nAnmeldung erforderlich! Tel.: 0664 5205203\nUnkostenbeitrag: 25 Euro\n  \nMit der Teilnahme an der Veranstaltung stimmen Sie der Anfertigung von Fotos\, Ton- und Filmaufnahmen sowie deren Veröffentlichung zu.
URL:https://www.tauriska.at/event/filz-workshop/
LOCATION:Salzburger Wollstadel\, Weichseldorf 27a\, Bramberg\, 5733\, Österreich
END:VEVENT
END:VCALENDAR