BEGIN:VCALENDAR
VERSION:2.0
PRODID:-//Verein Tauriska - ECPv6.15.20//NONSGML v1.0//EN
CALSCALE:GREGORIAN
METHOD:PUBLISH
X-WR-CALNAME:Verein Tauriska
X-ORIGINAL-URL:https://www.tauriska.at
X-WR-CALDESC:Veranstaltungen für Verein Tauriska
REFRESH-INTERVAL;VALUE=DURATION:PT1H
X-Robots-Tag:noindex
X-PUBLISHED-TTL:PT1H
BEGIN:VTIMEZONE
TZID:Europe/Vienna
BEGIN:DAYLIGHT
TZOFFSETFROM:+0100
TZOFFSETTO:+0200
TZNAME:CEST
DTSTART:20210328T010000
END:DAYLIGHT
BEGIN:STANDARD
TZOFFSETFROM:+0200
TZOFFSETTO:+0100
TZNAME:CET
DTSTART:20211031T010000
END:STANDARD
BEGIN:DAYLIGHT
TZOFFSETFROM:+0100
TZOFFSETTO:+0200
TZNAME:CEST
DTSTART:20220327T010000
END:DAYLIGHT
BEGIN:STANDARD
TZOFFSETFROM:+0200
TZOFFSETTO:+0100
TZNAME:CET
DTSTART:20221030T010000
END:STANDARD
BEGIN:DAYLIGHT
TZOFFSETFROM:+0100
TZOFFSETTO:+0200
TZNAME:CEST
DTSTART:20230326T010000
END:DAYLIGHT
BEGIN:STANDARD
TZOFFSETFROM:+0200
TZOFFSETTO:+0100
TZNAME:CET
DTSTART:20231029T010000
END:STANDARD
END:VTIMEZONE
BEGIN:VEVENT
DTSTART;TZID=Europe/Vienna:20221117T110000
DTEND;TZID=Europe/Vienna:20221117T123000
DTSTAMP:20260422T153658
CREATED:20221010T160927Z
LAST-MODIFIED:20221010T161008Z
UID:5655-1668682800-1668688200@www.tauriska.at
SUMMARY:SchülerUni: Small is beautiful?! Probleme im Kleinen bewältigen
DESCRIPTION:Im Miteinander von Menschen\, die sich gegenseitig unterstützen\, die ihre Gebrauchsartikel reparieren und nicht wegwerfen\, die so viel wie möglich in ihrer unmittelbaren Lebenswelt produzieren und konsumieren\, um die Abhängigkeit von Weltmärkten und Weltmächten zu reduzieren. \nFür Leopold Kohr war der Mensch das Maß aller Dinge und nicht abstrakte Wirtschaftsdaten und schon gar nicht permanentes Wachstum\, das in einer Welt\, die beschränkte Ressourcen bietet\, nicht unendlich möglich ist. \nDer Leiter des Leopold Kohr-Archives Mag. Dr. Ewald Hiebl\, Susanna Vötter-Dankl und Christian Vötter von der Leopold Kohr-Akademie gehen der Frage nach\, wie praxistauglich das Motto „Small is beautiful?!“ im eigenen Handlungsraum ist und freuen sich auf eine rege Diskussion. \nAnmeldung/Kontakt:\nMag.a Sylvia Kleindienst\nUniversität Salzburg – Science for Kids & Teens\nTel. 0662/ 8044 – 2029\nschueleruni@sbg.ac.at \n  \nInformationsflyer (pdf)\n  \n 
URL:https://www.tauriska.at/event/schueleruni-small-is-beautiful/
LOCATION:Thomas Bernhard Hörsaal\, Unipark Nonntal\, Erzabt-Klotz-Straße 1
ATTACH;FMTTYPE=image/jpeg:https://www.tauriska.at/wp-content/uploads/2020/02/Kohr-Akademie.jpg
END:VEVENT
END:VCALENDAR