BEGIN:VCALENDAR
VERSION:2.0
PRODID:-//Verein Tauriska - ECPv6.15.20//NONSGML v1.0//EN
CALSCALE:GREGORIAN
METHOD:PUBLISH
X-ORIGINAL-URL:https://www.tauriska.at
X-WR-CALDESC:Veranstaltungen für Verein Tauriska
REFRESH-INTERVAL;VALUE=DURATION:PT1H
X-Robots-Tag:noindex
X-PUBLISHED-TTL:PT1H
BEGIN:VTIMEZONE
TZID:Europe/Vienna
BEGIN:DAYLIGHT
TZOFFSETFROM:+0100
TZOFFSETTO:+0200
TZNAME:CEST
DTSTART:20210328T010000
END:DAYLIGHT
BEGIN:STANDARD
TZOFFSETFROM:+0200
TZOFFSETTO:+0100
TZNAME:CET
DTSTART:20211031T010000
END:STANDARD
BEGIN:DAYLIGHT
TZOFFSETFROM:+0100
TZOFFSETTO:+0200
TZNAME:CEST
DTSTART:20220327T010000
END:DAYLIGHT
BEGIN:STANDARD
TZOFFSETFROM:+0200
TZOFFSETTO:+0100
TZNAME:CET
DTSTART:20221030T010000
END:STANDARD
BEGIN:DAYLIGHT
TZOFFSETFROM:+0100
TZOFFSETTO:+0200
TZNAME:CEST
DTSTART:20230326T010000
END:DAYLIGHT
BEGIN:STANDARD
TZOFFSETFROM:+0200
TZOFFSETTO:+0100
TZNAME:CET
DTSTART:20231029T010000
END:STANDARD
END:VTIMEZONE
BEGIN:VEVENT
DTSTART;VALUE=DATE:20221028
DTEND;VALUE=DATE:20221030
DTSTAMP:20260422T201554
CREATED:20220613T070214Z
LAST-MODIFIED:20220613T072112Z
UID:5431-1666915200-1667087999@www.tauriska.at
SUMMARY:Die Kraft der Vielen: Tage der Zukunft Salzburg 2022
DESCRIPTION:Projektcoaching und Bühne für Zukunftsideen zu Klimaschutz und sozialer Innovation\nIhr habt eine zukunftsweisende Idee?\nZum Beispiel im Bereich Tourismus\, Landwirtschaft und Gewerbe? Für Nahversorgung oder Mobilität und anderen Bereichen\, in denen neue Modelle und nachhaltige\, ressourcensparende und energieeffiziente Lösungen gefragt sind? Oder zum Beispiel für die Stärkung von Zusammenhalt\, sozialer Inklusion und Teilhabe in einer Gemeinde? Oder für neue Wege und Angebote zur Unterstützung im Alter?\nIhr möchtet Eure Idee präsentieren und Euch Unterstützung für ihre Konkretisierung und Realisierung holen? \nDie Tage der Zukunft laden Ideenbringer*innen und engagierte Teams  aus Zivilgesellschaft und Vereinen sowie von Unternehmen und aus Gemeinden ein. \nDie Tage der Zukunft Salzburg sind ein Schwerpunkt im Zukunftslabor Salzburg\, einem Projekt von „conSalis – entwickeln. beraten.“  mit Unterstützung von Land Salzburg. Die Tage der Zukunft  – heuer in Kooperation mit dem Kulturverein Tauriska \n  \nNähere Informationen zum Call und zur Einreichung: \n\nhttps://zukunftslabor-salzburg.at/tage-der-zukunft-salzburg-2022/ \nBewerbungsfrist: 15. September\n\n  \nInformationsblatt zur Einreichung (pdf)\nPlakat (pdf)
URL:https://www.tauriska.at/event/die-kraft-der-vielen-tage-der-zukunft-salzburg-2022/
LOCATION:TAURISKA-Kammerlanderstall\, Künstlergasse 15a\, Neukirchen am Großvenediger\, AUSTRIA\, 5741\, Österreich
END:VEVENT
END:VCALENDAR