BEGIN:VCALENDAR
VERSION:2.0
PRODID:-//Verein Tauriska - ECPv6.15.20//NONSGML v1.0//EN
CALSCALE:GREGORIAN
METHOD:PUBLISH
X-WR-CALNAME:Verein Tauriska
X-ORIGINAL-URL:https://www.tauriska.at
X-WR-CALDESC:Veranstaltungen für Verein Tauriska
REFRESH-INTERVAL;VALUE=DURATION:PT1H
X-Robots-Tag:noindex
X-PUBLISHED-TTL:PT1H
BEGIN:VTIMEZONE
TZID:Europe/Vienna
BEGIN:DAYLIGHT
TZOFFSETFROM:+0100
TZOFFSETTO:+0200
TZNAME:CEST
DTSTART:20210328T010000
END:DAYLIGHT
BEGIN:STANDARD
TZOFFSETFROM:+0200
TZOFFSETTO:+0100
TZNAME:CET
DTSTART:20211031T010000
END:STANDARD
BEGIN:DAYLIGHT
TZOFFSETFROM:+0100
TZOFFSETTO:+0200
TZNAME:CEST
DTSTART:20220327T010000
END:DAYLIGHT
BEGIN:STANDARD
TZOFFSETFROM:+0200
TZOFFSETTO:+0100
TZNAME:CET
DTSTART:20221030T010000
END:STANDARD
BEGIN:DAYLIGHT
TZOFFSETFROM:+0100
TZOFFSETTO:+0200
TZNAME:CEST
DTSTART:20230326T010000
END:DAYLIGHT
BEGIN:STANDARD
TZOFFSETFROM:+0200
TZOFFSETTO:+0100
TZNAME:CET
DTSTART:20231029T010000
END:STANDARD
END:VTIMEZONE
BEGIN:VEVENT
DTSTART;VALUE=DATE:20220910
DTEND;VALUE=DATE:20220918
DTSTAMP:20260422T204026
CREATED:20220808T093734Z
LAST-MODIFIED:20220810T092201Z
UID:5556-1662768000-1663459199@www.tauriska.at
SUMMARY:kofomi#26
DESCRIPTION:kofomi#26/2022 voices – Stimmen \nDie Stimme ist eines der wesentlichen Elemente jeder Gesellschaft\, ist Grundlage für Kommunikation\, Sprache\, Ausdruck\, Information. Schließlich ist sie das Herz der Musik. Die Stimme schließlich einsetzen\, um Einspruch zu erheben\, zu protestieren. Für Menschenrechte\, für unsere Zukunft. \nDas Vokalensemble REIHE Zykan+ arbeitet unter dem Motto Stimme erheben gegen den Stillstand. Gemeint ist der pandemiebedingt erzwungene Stillstand der Kultur in unserem Land\, den es nun aufzuarbeiten gilt. \nLeitung: Wolfgang Seierl \n 
URL:https://www.tauriska.at/event/kofomi26/
LOCATION:Mittersill\, Mittersill\, Salzburg\, 5730\, Österreich
CATEGORIES:kofomi
ORGANIZER;CN="Wolfgang Seierl":MAILTO:info@kofomi.com
END:VEVENT
BEGIN:VEVENT
DTSTART;TZID=Europe/Vienna:20220913T190000
DTEND;TZID=Europe/Vienna:20220913T223000
DTSTAMP:20260422T204026
CREATED:20220526T183235Z
LAST-MODIFIED:20220808T090339Z
UID:5399-1663095600-1663108200@www.tauriska.at
SUMMARY:Songs and Stories for a World of Peace
DESCRIPTION:Veranstaltung mit\nAnna Rondon (Navajo Nation\, USA)\nTjan Zaotschnaja (Kamtschatka\, Sibirien)\nLiam O’Maonlai (irischer Musiker und Sänger) \n  \nModeration: Claus Biegert\, Gründer des World Uranium Hearing in Salzburg (1992)\nPartner: Literaturarchiv Salzburg\, Universität Salzburg\, PLAGE\, Naturschutzbund und Robert-Jungk-Bibliothek \n  \nInformations-Flyer (pdf)\nInformations-Flyer englisch (pdf) \n  \nANMELDUNG erforderlich! Unter 0664 5205203\nEinladungskarte: Kohr-Veranstaltungen 2022 (pdf)\n  \nMit der Teilnahme an der Veranstaltung stimmen Sie der Anfertigung von Fotos\, Ton- und Filmaufnahmen sowie deren Veröffentlichung zu.
URL:https://www.tauriska.at/event/songs-and-stories-for-a-world-of-peace/
LOCATION:Hörsaal 2.04\, Kapitelgasse 5-7\, Salzburg\, 5020
ATTACH;FMTTYPE=image/jpeg:https://www.tauriska.at/wp-content/uploads/2020/02/Kohr-Akademie.jpg
END:VEVENT
END:VCALENDAR