BEGIN:VCALENDAR
VERSION:2.0
PRODID:-//Verein Tauriska - ECPv6.15.20//NONSGML v1.0//EN
CALSCALE:GREGORIAN
METHOD:PUBLISH
X-WR-CALNAME:Verein Tauriska
X-ORIGINAL-URL:https://www.tauriska.at
X-WR-CALDESC:Veranstaltungen für Verein Tauriska
REFRESH-INTERVAL;VALUE=DURATION:PT1H
X-Robots-Tag:noindex
X-PUBLISHED-TTL:PT1H
BEGIN:VTIMEZONE
TZID:Europe/Vienna
BEGIN:DAYLIGHT
TZOFFSETFROM:+0100
TZOFFSETTO:+0200
TZNAME:CEST
DTSTART:20210328T010000
END:DAYLIGHT
BEGIN:STANDARD
TZOFFSETFROM:+0200
TZOFFSETTO:+0100
TZNAME:CET
DTSTART:20211031T010000
END:STANDARD
BEGIN:DAYLIGHT
TZOFFSETFROM:+0100
TZOFFSETTO:+0200
TZNAME:CEST
DTSTART:20220327T010000
END:DAYLIGHT
BEGIN:STANDARD
TZOFFSETFROM:+0200
TZOFFSETTO:+0100
TZNAME:CET
DTSTART:20221030T010000
END:STANDARD
BEGIN:DAYLIGHT
TZOFFSETFROM:+0100
TZOFFSETTO:+0200
TZNAME:CEST
DTSTART:20230326T010000
END:DAYLIGHT
BEGIN:STANDARD
TZOFFSETFROM:+0200
TZOFFSETTO:+0100
TZNAME:CET
DTSTART:20231029T010000
END:STANDARD
END:VTIMEZONE
BEGIN:VEVENT
DTSTART;VALUE=DATE:20220614
DTEND;VALUE=DATE:20220615
DTSTAMP:20260423T011250
CREATED:20210615T102252Z
LAST-MODIFIED:20220804T070954Z
UID:4632-1655164800-1655251199@www.tauriska.at
SUMMARY:Symposion: Coca-Colonisation & Kalter Krieg
DESCRIPTION:Europa\, Österreich und Amerika: 31 Jahre Coca-Colonization – damals und heute\n1991 erschien Reinhold Wagnleitners „Coca-Colonization und Kalter Krieg“ im Wiener Verlag für Gesellschaftskritik. Der Untertitel verweist auf das zentrale Thema des Buches: „Die Kulturmission der USA in Österreich nach dem Zweiten Weltkrieg“. Die Publikation steht nicht nur stellvertretend für einen Paradigmenwechsel in der Geschichtswissenschaft hin zur Kulturgeschichte. Sie zeigt auch\, wie Kultur und Konsum systematisch als Mittel der Politik instrumentalisiert wurden und wie im Sinne einer „mentalen Globalisierung“ Normen\, Werte\, Alltagskultur und Einstellungen weltweite Veränderungen erfuhren. \n31 Jahre nach seinem Erscheinen soll ein Blick auf die Bedeutung dieses Buches für die gegenwärtige Zeitgeschichte-Forschung und auf wichtige Aspekte der Beziehung zwischen Amerika\, den USA\, Europa und Österreich geworfen werden. \n  \nMehr zum Inhalt und Programm (pdf)\n\nProgramm\n\nBegrüßung durch die Veranstalter_innen & Grußworte des Dekans der Gesellschaftswissenschaftlichen Fakultät\, Univ. Prof. Dr. Martin Knoll [angefragt]\nUniv. Prof. i.R. Dr. Reinhold Wagnleitner (Universität Salzburg)\nUniv. Prof. Günter Bischof MA Ph.D. (University of New Orleans): Die Bedeutung der „Coca-Colonization“ in der amerikanischen Diplomatiegeschichte und in den Cultural Studies\nUniv. Prof. Jacqueline Vansant Ph.D. (Univ. of Michigan-Dearborn): Austria: Made in Hollywood\nUniv. Prof. Mag. Dr. Helga Embacher (Universität Salzburg)\n\n  \n18.15 – 18.45 Pause \n  \n\nUniv. Prof. i.R. Mag. Dr. Ingrid Bauer (Universität Salzburg): Welcome Ami Go Home. Die Kinder schwarzer GIs in Österreich\nUniv. Prof. Mag. Dr. Margit Reiter (Universität Salzburg): Feindbild USA? Reeducation und Antiamerikanismus im „Ehemaligen“- Milieu\nPodiumsdiskussion mit den Referent_innen (Moderation: Mag. Dr. Ewald Hiebl\, Universität Salzburg)\n\n  \nANMELDUNG erforderlich - unter carina.zenz@plus.ac.at oder 0662 8044 4770 \n\n  \nOrganisation: Helga Embacher\, Ewald Hiebl\, Margit Reiter\, Carina Zenz (Universität Salzburg\, FB Geschichte) in Kooperation mit Alfred Winter und der Leopold Kohr Akademie.\nMit Unterstützung von Stadt Salzburg und Land Salzburg.
URL:https://www.tauriska.at/event/coca-colonisation-kalter-krieg/
LOCATION:Hörsaal 2.04\, Kapitelgasse 5-7\, Salzburg\, 5020
ATTACH;FMTTYPE=image/jpeg:https://www.tauriska.at/wp-content/uploads/2020/02/Kohr-Akademie.jpg
END:VEVENT
END:VCALENDAR