BEGIN:VCALENDAR
VERSION:2.0
PRODID:-//Verein Tauriska - ECPv6.15.20//NONSGML v1.0//EN
CALSCALE:GREGORIAN
METHOD:PUBLISH
X-WR-CALNAME:Verein Tauriska
X-ORIGINAL-URL:https://www.tauriska.at
X-WR-CALDESC:Veranstaltungen für Verein Tauriska
REFRESH-INTERVAL;VALUE=DURATION:PT1H
X-Robots-Tag:noindex
X-PUBLISHED-TTL:PT1H
BEGIN:VTIMEZONE
TZID:Europe/Vienna
BEGIN:DAYLIGHT
TZOFFSETFROM:+0100
TZOFFSETTO:+0200
TZNAME:CEST
DTSTART:20210328T010000
END:DAYLIGHT
BEGIN:STANDARD
TZOFFSETFROM:+0200
TZOFFSETTO:+0100
TZNAME:CET
DTSTART:20211031T010000
END:STANDARD
BEGIN:DAYLIGHT
TZOFFSETFROM:+0100
TZOFFSETTO:+0200
TZNAME:CEST
DTSTART:20220327T010000
END:DAYLIGHT
BEGIN:STANDARD
TZOFFSETFROM:+0200
TZOFFSETTO:+0100
TZNAME:CET
DTSTART:20221030T010000
END:STANDARD
BEGIN:DAYLIGHT
TZOFFSETFROM:+0100
TZOFFSETTO:+0200
TZNAME:CEST
DTSTART:20230326T010000
END:DAYLIGHT
BEGIN:STANDARD
TZOFFSETFROM:+0200
TZOFFSETTO:+0100
TZNAME:CET
DTSTART:20231029T010000
END:STANDARD
END:VTIMEZONE
BEGIN:VEVENT
DTSTART;TZID=Europe/Vienna:20220513T190000
DTEND;TZID=Europe/Vienna:20220513T223000
DTSTAMP:20260423T030049
CREATED:20220406T092618Z
LAST-MODIFIED:20220406T093518Z
UID:5246-1652468400-1652481000@www.tauriska.at
SUMMARY:Gesprächsrunde
DESCRIPTION:Hüter der Schafe – Hirten und ihre Begleittiere\nGesprächsrunde im Rahmen des EU-Projektes SchafOhrMarke \n  \nPodiums-Teilnehmer_innen \n\nNorbert Brandner\, Lofer\nRoswitha Langreiter\, Rauris\nThomas Schranz\, Tösens/Tiroler Oberland\nRobert Zehentner\, Taxenbach/Eschenau\n\n  \nModeration: Christine Mooslechner\, Flachau \n  \nMehr zur Veranstaltung (pdf) \n 
URL:https://www.tauriska.at/event/hueter-der-schafe/
LOCATION:TAURISKA-Kammerlanderstall\, Künstlergasse 15a\, Neukirchen am Großvenediger\, AUSTRIA\, 5741\, Österreich
CATEGORIES:Gesprächsrunde,SchafOhrMarke
ATTACH;FMTTYPE=image/jpeg:https://www.tauriska.at/wp-content/uploads/2022/04/hueter-der-schafe.jpg
END:VEVENT
END:VCALENDAR