BEGIN:VCALENDAR
VERSION:2.0
PRODID:-//Verein Tauriska - ECPv6.15.20//NONSGML v1.0//EN
CALSCALE:GREGORIAN
METHOD:PUBLISH
X-WR-CALNAME:Verein Tauriska
X-ORIGINAL-URL:https://www.tauriska.at
X-WR-CALDESC:Veranstaltungen für Verein Tauriska
REFRESH-INTERVAL;VALUE=DURATION:PT1H
X-Robots-Tag:noindex
X-PUBLISHED-TTL:PT1H
BEGIN:VTIMEZONE
TZID:Europe/Vienna
BEGIN:DAYLIGHT
TZOFFSETFROM:+0100
TZOFFSETTO:+0200
TZNAME:CEST
DTSTART:20210328T010000
END:DAYLIGHT
BEGIN:STANDARD
TZOFFSETFROM:+0200
TZOFFSETTO:+0100
TZNAME:CET
DTSTART:20211031T010000
END:STANDARD
BEGIN:DAYLIGHT
TZOFFSETFROM:+0100
TZOFFSETTO:+0200
TZNAME:CEST
DTSTART:20220327T010000
END:DAYLIGHT
BEGIN:STANDARD
TZOFFSETFROM:+0200
TZOFFSETTO:+0100
TZNAME:CET
DTSTART:20221030T010000
END:STANDARD
BEGIN:DAYLIGHT
TZOFFSETFROM:+0100
TZOFFSETTO:+0200
TZNAME:CEST
DTSTART:20230326T010000
END:DAYLIGHT
BEGIN:STANDARD
TZOFFSETFROM:+0200
TZOFFSETTO:+0100
TZNAME:CET
DTSTART:20231029T010000
END:STANDARD
END:VTIMEZONE
BEGIN:VEVENT
DTSTART;TZID=Europe/Vienna:20220318T190000
DTEND;TZID=Europe/Vienna:20220424T160000
DTSTAMP:20260423T123625
CREATED:20220203T090510Z
LAST-MODIFIED:20220408T154951Z
UID:5086-1647630000-1650816000@www.tauriska.at
SUMMARY:Foto-Ausstellung: Verein "Vielfalt"
DESCRIPTION:In der Aktionswoche zum Welt-Down-Syndrom-Tag (21.03.) wird im Kammerlanderstall eine Fotoausstellung des Vereins Vielfalt ausgestellt. \n  \nHier erhalten Sie mehr Information zur Aktionswoche (pdf)\nHier erhalten Sie mehr Information zur Fotoausstellung (pdf) \n  \nAktionswoche: 21.-27. März\nAusstellungseröffnung: 18. März\, 19:00 Uhr \nDie Veranstaltung ist eine Kooperation von: Verein Vielfalt\, kinderfreundliche Gemeinde\, unicef Österreich\, familienfreundliche Gemeinde und Verein Tauriska
URL:https://www.tauriska.at/event/foto-ausstellung-verein-vielfalt/
LOCATION:TAURISKA-Kammerlanderstall\, Künstlergasse 15a\, Neukirchen am Großvenediger\, AUSTRIA\, 5741\, Österreich
CATEGORIES:Ausstellung
ATTACH;FMTTYPE=image/jpeg:https://www.tauriska.at/wp-content/uploads/2022/02/Ausstellung-Vielfalt.jpg
END:VEVENT
BEGIN:VEVENT
DTSTART;VALUE=DATE:20220325
DTEND;VALUE=DATE:20220328
DTSTAMP:20260423T123625
CREATED:20220222T094152Z
LAST-MODIFIED:20220222T094152Z
UID:5114-1648166400-1648425599@www.tauriska.at
SUMMARY:Textilfestival Bozen
DESCRIPTION:Internationales Festival für textiles Handwerk\, textile Kunst und Design\nDas Festival ist der Branchentreffpunkt der Kreativen und Textilliebhaber vom 25. bis 27. März 2022 in Bozen\, Südtirol (Schloss Maretsch). In der\, mit besonderem Flair umgebenen mittelalterlichen Burg können Besucher_innen mit allen Sinnen die einzigartige Produktvielfalt textiler Manufakturen von Mode- und Textildesigner_innen sowie Textilkünstler_innen erleben. \nMehr Informationen über das Festival und Aussteller_innen (Website)
URL:https://www.tauriska.at/event/textilfestival-bozen-2/
LOCATION:Schloss Maretsch\, Via Claudia-de-Medici Str. 12\, Bozen/Bolzano\, 39100\, Italien
ATTACH;FMTTYPE=image/jpeg:https://www.tauriska.at/wp-content/uploads/2021/04/festival-banner.jpg
END:VEVENT
END:VCALENDAR